BEGIN:VCALENDAR
VERSION:2.0
PRODID:-//The Mount - ECPv6.15.20//NONSGML v1.0//EN
CALSCALE:GREGORIAN
METHOD:PUBLISH
X-WR-CALNAME:The Mount
X-ORIGINAL-URL:https://edithwharton.org
X-WR-CALDESC:Events for The Mount
REFRESH-INTERVAL;VALUE=DURATION:PT1H
X-Robots-Tag:noindex
X-PUBLISHED-TTL:PT1H
BEGIN:VTIMEZONE
TZID:America/New_York
BEGIN:DAYLIGHT
TZOFFSETFROM:-0500
TZOFFSETTO:-0400
TZNAME:EDT
DTSTART:20250309T070000
END:DAYLIGHT
BEGIN:STANDARD
TZOFFSETFROM:-0400
TZOFFSETTO:-0500
TZNAME:EST
DTSTART:20251102T060000
END:STANDARD
BEGIN:DAYLIGHT
TZOFFSETFROM:-0500
TZOFFSETTO:-0400
TZNAME:EDT
DTSTART:20260308T070000
END:DAYLIGHT
BEGIN:STANDARD
TZOFFSETFROM:-0400
TZOFFSETTO:-0500
TZNAME:EST
DTSTART:20261101T060000
END:STANDARD
BEGIN:DAYLIGHT
TZOFFSETFROM:-0500
TZOFFSETTO:-0400
TZNAME:EDT
DTSTART:20270314T070000
END:DAYLIGHT
BEGIN:STANDARD
TZOFFSETFROM:-0400
TZOFFSETTO:-0500
TZNAME:EST
DTSTART:20271107T060000
END:STANDARD
END:VTIMEZONE
BEGIN:VEVENT
DTSTART;TZID=America/New_York:20260821T200000
DTEND;TZID=America/New_York:20260821T220000
DTSTAMP:20260425T130954
CREATED:20260416T205649Z
LAST-MODIFIED:20260421T144415Z
UID:44923-1787342400-1787349600@edithwharton.org
SUMMARY:Ghost Tour of The Mount
DESCRIPTION:Feel a tingle down your spine as our guides lead you through The Mount’s darkened halls\, sharing stories of the many eerie encounters that have been reported over the years. Ghost tours start in July and continue through Halloween! Advance registration is required. \n  \nIMPORTANT EVENT INFORMATION: \n\nGhost Tours of The Mount last approximately two hours and include a half-mile walk – rain-or-shine – on a gently sloped gravel road. Terrain may be uneven\, and stairs are required to experience the full tour. Please plan your apparel and footwear accordingly!\nParking for Ghost Tours is in The Mount’s lower lot\, adjacent to the Mansion. An attendant will direct you from the Ticket Booth.\nThis tour contains adult content that is not appropriate for young audiences under 12 years old. Families should consider attending one of our Ghost Tours for Kids.\nIn the event of severe weather\, Ghost Tours may be canceled. Ticket holders will be notified of a cancellation by email by 2:00 pm the day of the tour\, and all tickets will be canceled and refunded.\nAccessible accommodations are available. To discuss arrangements\, please contact us by phone: 413-551-5111 x5; or email: ticketbooth@edithwharton.org. For more information about accessibility\, review The Mount’s accessibility webpage.
URL:https://edithwharton.org/event/2026-ghost-tour-8/
LOCATION:The Mount\, 2 Plunkett Street\, Lenox\, MA\, United States
CATEGORIES:Ghost Tours
ATTACH;FMTTYPE=image/jpeg:https://edithwharton.org/wp-content/uploads/2025/05/Youth-Family-Music-Calendar-thumbnail-1.jpg
END:VEVENT
END:VCALENDAR