BEGIN:VCALENDAR
VERSION:2.0
PRODID:-//The Mount - ECPv6.15.20//NONSGML v1.0//EN
CALSCALE:GREGORIAN
METHOD:PUBLISH
X-WR-CALNAME:The Mount
X-ORIGINAL-URL:https://edithwharton.org
X-WR-CALDESC:Events for The Mount
REFRESH-INTERVAL;VALUE=DURATION:PT1H
X-Robots-Tag:noindex
X-PUBLISHED-TTL:PT1H
BEGIN:VTIMEZONE
TZID:UTC
BEGIN:STANDARD
TZOFFSETFROM:+0000
TZOFFSETTO:+0000
TZNAME:UTC
DTSTART:20250101T000000
END:STANDARD
END:VTIMEZONE
BEGIN:VEVENT
DTSTART;TZID=UTC:20260902T173000
DTEND;TZID=UTC:20260902T183000
DTSTAMP:20260425T130949
CREATED:20260320T195759Z
LAST-MODIFIED:20260417T140500Z
UID:40609-1788370200-1788373800@edithwharton.org
SUMMARY:Wharton on Wednesday | Angel at the Grave\, read by Mae Hedges Boyce
DESCRIPTION:Stories\, voices\, and a welcoming café atmosphere—Wharton on Wednesday returns for a five-month run! Join us at the Terrace Café on the first Wednesday of each month\, June through October\, as local actors bring quintessential Edith Wharton short stories to life. Arrive early to enjoy the spectacular view and refreshments from the Café\, open at 4:30 pm. \nIn September\, Mae Hedges Boyce returns to read Angel at the Grave. Miss Paulina Anson has grown old preserving the house and memory of her grandfather\, a oncefamous Transcendentalist\, only to meet with bitter disappointment when public interest in him wanes. Until a young stranger appears on her doorstep offering hope and a new start. \n  \nIMPORTANT EVENT INFORMATION: \n\nThis one-hour reading takes place on The Mount’s Terrace under an open-air shade tent. Please be mindful of the weather and plan accordingly! The Terrace is located on the second floor of the Mansion. An elevator is available to assist those with mobility concerns.\nPlease park in the Upper Parking Lot. We recommend arriving 15 minutes early to allow time to enjoy the quarter-mile walk down the driveway to the Mansion. Golf carts run throughout the day if you require assistance to the event location. Accessible parking is available in spaces adjacent to the Mansion.\nThe bar at the Terrace Café will be open 4:30 – 5:30 pm.\nIn the event of extreme weather\, such as excessive heat or severe thunderstorms\, this program may be moved indoors to The Mount’s Stable Auditorium. All ticket holders will be notified by email at least two hours before the scheduled start time if a venue change is necessary. Those wishing to cancel their ticket orders will receive full refunds. To cancel\, email: programs@edithwharton.org\nSeating for all programs at The Mount is first-come\, first-served. If you have seating preferences\, we recommend arriving fifteen minutes early.\nAccessible seating is available. To discuss arrangements\, please contact us by phone: 413-551-5111 x5; or email: programs@edithwharton.org. For more information about accessibility\, review The Mount’s accessibility webpage.\nQuestions? Email: programs@edithwharton.org; or phone: 413-551-5111 x2\n\n  \n\n  \nMae Hedges Boyce is grateful to be back at The Mount for the Wharton on Wednesday series this summer. Originally from the Boston area\, Mae has lived and been acting in the Berkshires since 2001. She has performed on stage with Shakespeare & Company\, Berkshire Theatre Festival\, Barrington Stage Company\, Berkshire Playwright’s Lab\, and Mixed Company.  When not on stage\, she works as an energy therapist\, guiding her clients with presence and prayer.  Mae enjoys writing\, especially poetry\, and she is working on a theatre piece based on the life of the Christian mystic Julian of Norwich. 
URL:https://edithwharton.org/event/angel-at-the-grave/
CATEGORIES:Readings & Performance
ATTACH;FMTTYPE=image/jpeg:https://edithwharton.org/wp-content/uploads/2026/03/Wharton-on-Wednesday.jpg
END:VEVENT
END:VCALENDAR