BEGIN:VCALENDAR
VERSION:2.0
PRODID:-//The Mount - ECPv6.15.20//NONSGML v1.0//EN
CALSCALE:GREGORIAN
METHOD:PUBLISH
X-WR-CALNAME:The Mount
X-ORIGINAL-URL:https://edithwharton.org
X-WR-CALDESC:Events for The Mount
REFRESH-INTERVAL;VALUE=DURATION:PT1H
X-Robots-Tag:noindex
X-PUBLISHED-TTL:PT1H
BEGIN:VTIMEZONE
TZID:UTC
BEGIN:STANDARD
TZOFFSETFROM:+0000
TZOFFSETTO:+0000
TZNAME:UTC
DTSTART:20250101T000000
END:STANDARD
END:VTIMEZONE
BEGIN:VEVENT
DTSTART;TZID=UTC:20261017T130000
DTEND;TZID=UTC:20261017T210000
DTSTAMP:20260423T134111
CREATED:20260415T161923Z
LAST-MODIFIED:20260415T162347Z
UID:10001309-1792242000-1792270800@edithwharton.org
SUMMARY:Early Closing 1:00 PM
DESCRIPTION:Please note: Due to a private event\, the Terrace Cafe is not open today.\nThe House and Bookstore will close at 1:00 PM.\nThe grounds will close at 2:00 PM.
URL:https://edithwharton.org/event/early-closing-1-pm/2026-10-17/
CATEGORIES:Early Closing Days
ATTACH;FMTTYPE=image/webp:https://edithwharton.org/wp-content/uploads/2026/04/The-Mount-with-fountain-WEB.webp
END:VEVENT
END:VCALENDAR