BEGIN:VCALENDAR
VERSION:2.0
PRODID:-//The Mount - ECPv6.15.20//NONSGML v1.0//EN
CALSCALE:GREGORIAN
METHOD:PUBLISH
X-WR-CALNAME:The Mount
X-ORIGINAL-URL:https://edithwharton.org
X-WR-CALDESC:Events for The Mount
REFRESH-INTERVAL;VALUE=DURATION:PT1H
X-Robots-Tag:noindex
X-PUBLISHED-TTL:PT1H
BEGIN:VTIMEZONE
TZID:UTC
BEGIN:STANDARD
TZOFFSETFROM:+0000
TZOFFSETTO:+0000
TZNAME:UTC
DTSTART:20260101T000000
END:STANDARD
END:VTIMEZONE
BEGIN:VEVENT
DTSTART;TZID=UTC:20270430T140000
DTEND;TZID=UTC:20270430T153000
DTSTAMP:20260425T131328
CREATED:20260415T155207Z
LAST-MODIFIED:20260421T142922Z
UID:10001359-1809093600-1809099000@edithwharton.org
SUMMARY:Forest Bathing & Tai Chi with Mary Hannah Parkman
DESCRIPTION:Ease into the afternoon with Forest Bathing and Tai Chi among the evergreen forests at The Mount. Mary Hannah will guide you in easy-to-follow Tai Chi movements to cultivate peace and vitality\, and a walking meditation to experience “the art of connecting with nature through our senses\,” according to Dr. Qing Lin\, Chairman of the Japanese Society for Forest Medicine.\n\nBy being in rhythm with nature\, we awaken not only our senses but also wonder\, inspiration\, and our innate capacity for healing. Nature offers us soothing sounds\, stable ground\, and blooms with expressions of harmony that guide us home to experience these qualities within ourselves.\n\n\n  \n\n  \n\nIMPORTANT EVENT INFORMATION: \n\nPre-registration for this event is encouraged; there is a suggested donation of $20/per person\, payable on site by cash or Venmo. To register\, email: maryhannah.parkman@gmail.com\nThis program meets at The Mount’s Ticket Booth and takes place outdoors\, rain or shine. Please plan your apparel and footwear accordingly—wear comfortable clothes suitable for movement. In the event of rain\, this program will be abbreviated to one hour. In the event of extreme weather conditions\, such as excessive heat or severe thunderstorms\, this program will be canceled. Registrants will be notified by email by 12:00 pm the day of the program.\nThere is a short trail walk of 0.5 miles at the start of this program. The Mount’s trails cover a mix of woodchip paths\, grassy areas\, and mostly level woodland trails with some gentle slopes. Surfaces may be uneven\, and participants are advised to be mindful of exposed roots and natural variations underfoot.\nWhile The Mount is a dog-friendly property\, dogs are not permitted in this program.\nQuestions? Email: maryhannah.parkman@gmail.com; or phone: 413-551-5111 x2\n\n  \n\n  \nMary Hannah Parkman is a certified Tai Chi Instructor and Yoga Teacher. She was drawn to Tai Chi by the nature-inspired movements and the dance between grace and strength. After practicing Tai Chi and Qi Gong for 10 years\, she earned her first Tai Chi certification in 2023. When Mary Hannah teaches Tai Chi\, she draws on her 12 years of experience as a mind-body movement instructor\, teaching yoga in studios\, wellness resorts\, public schools\, summer camps\, and leading mindful outdoor experiences. She delights in sharing the peace and vitality that come from being in nature\, and volunteers to support conservation efforts for Eastern Hemlock trees. 5% of donations to this program will go to support the New York State Hemlock Initiative
URL:https://edithwharton.org/event/forest-bathing-tai-chi/2027-04-30/
LOCATION:The Mount\, 2 Plunkett Street\, Lenox\, MA\, United States
CATEGORIES:Movement & Dance,Nature
ATTACH;FMTTYPE=image/jpeg:https://edithwharton.org/wp-content/uploads/2026/04/Forest-Bathing-with-Mary-Hannah-Parkman-1.jpg
END:VEVENT
END:VCALENDAR