BEGIN:VCALENDAR
VERSION:2.0
PRODID:-//The Mount - ECPv6.15.20//NONSGML v1.0//EN
CALSCALE:GREGORIAN
METHOD:PUBLISH
X-WR-CALNAME:The Mount
X-ORIGINAL-URL:https://edithwharton.org
X-WR-CALDESC:Events for The Mount
REFRESH-INTERVAL;VALUE=DURATION:PT1H
X-Robots-Tag:noindex
X-PUBLISHED-TTL:PT1H
BEGIN:VTIMEZONE
TZID:UTC
BEGIN:STANDARD
TZOFFSETFROM:+0000
TZOFFSETTO:+0000
TZNAME:UTC
DTSTART:20250101T000000
END:STANDARD
END:VTIMEZONE
BEGIN:VEVENT
DTSTART;TZID=UTC:20260726T110000
DTEND;TZID=UTC:20260726T120000
DTSTAMP:20260425T130749
CREATED:20260326T153554Z
LAST-MODIFIED:20260417T144827Z
UID:41500-1785063600-1785067200@edithwharton.org
SUMMARY:Playtime Players
DESCRIPTION:Bring the whole family to Under the Tent\, a free family concert series featuring lively performances by local folk\, bluegrass\, and kindie rock musicians. With toe-tapping tunes and a festive atmosphere\, these concerts are a fun introduction to a range of musical genres and styles. \nIn July\, The Mount welcomes the Playtime Players! From jazz favorites to blues\, reggae\, popular songs\, and fun originals\, the Playtime Players offer a joyful musical experience for all ages. Kids and adults alike will enjoy Levi’s lively guitar\, saxophone\, and vocals; Lucia’s warm voice\, playful harmonica\, and upbeat presence; and special guest Diane Geddes on keyboard—a lifelong performer who began playing on local television at age 11. \nIMPORTANT EVENT INFORMATION: \n\nThis performance takes place in The Mount’s Event Tent\, a large-scale\, open-air tent adjacent to the parking lot. Please be mindful of the weather and plan accordingly.\nThis concert is intended for kids of all ages accompanied by their grown-ups. Thanks to our event sponsors\, it is free and open to the public! Registration is not required.\nIn the event of extreme weather—such as excessive heat or severe thunderstorms—this performance will be cancelled. This webpage and The Mount’s homepage will be updated by 9:00 am the day of the performance if a cancellation is necessary.\nSeating for all Mount programs is first-come\, first-served. Accessible seating is available. To discuss arrangements\, please contact us by phone: 413-551-5111 x5; or email: programs@edithwharton.org. For more information about accessibility\, review The Mount’s accessibility webpage.\nQuestions? Email: programs@edithwharton.org
URL:https://edithwharton.org/event/playtime-players/
CATEGORIES:Kids Concerts Under the Tent,Youth & Family
END:VEVENT
END:VCALENDAR