BEGIN:VCALENDAR
VERSION:2.0
PRODID:-//The Mount - ECPv6.15.20//NONSGML v1.0//EN
CALSCALE:GREGORIAN
METHOD:PUBLISH
X-WR-CALNAME:The Mount
X-ORIGINAL-URL:https://edithwharton.org
X-WR-CALDESC:Events for The Mount
REFRESH-INTERVAL;VALUE=DURATION:PT1H
X-Robots-Tag:noindex
X-PUBLISHED-TTL:PT1H
BEGIN:VTIMEZONE
TZID:UTC
BEGIN:STANDARD
TZOFFSETFROM:+0000
TZOFFSETTO:+0000
TZNAME:UTC
DTSTART:20250101T000000
END:STANDARD
END:VTIMEZONE
BEGIN:VEVENT
DTSTART;TZID=UTC:20260816T110000
DTEND;TZID=UTC:20260816T120000
DTSTAMP:20260425T131428
CREATED:20260326T184223Z
LAST-MODIFIED:20260417T151231Z
UID:10001258-1786878000-1786881600@edithwharton.org
SUMMARY:Stories & Stretches
DESCRIPTION:Stories & Stretches is an outdoor\, movement-based workshop designed for kids of all ages. Blending storytelling and yoga\, this lively series is brought to us by Kimberly Kidder\, owner of Flow on Main yoga studio. Students will participate in coordinated movements\, playful games\, mindful meditations\, and breathing exercises. Stories & Stretches is designed to encourage physical and emotional awareness through fun and engaging experiences. \n  \nIMPORTANT EVENT INFORMATION: \n\nThis program is designed for elementary-aged youth\, accompanied by their grown-ups. Thanks to our sponsors\, Stories & Stretches is free and open to the public; registration is encouraged but not required.\nThis program takes place outdoors on the lawn adjacent to the French Garden. In the event of inclement weather\, Stories & Stretches will be moved indoors to the Stable Auditorium. Please check in at the Ticket Booth when you arrive to receive any updates about the location of this program.\nQuestions? Email: programs@edithwharton.org\n\n  \n\n  \nKimberly Kidder completed her Ashtanga vinyasa yoga teacher training in 2016 with Sacred Jade Yoga. With additional certifications in Kids Yoga and Functional Movement\, Kimberly loves working with children and adults. Visit Flow on Main to learn more about Kimberly’s offerings at her Dalton studio.
URL:https://edithwharton.org/event/stories-and-stretches/2026-08-16/
LOCATION:The Mount\, 2 Plunkett Street\, Lenox\, MA\, United States
CATEGORIES:Youth & Family
ATTACH;FMTTYPE=image/jpeg:https://edithwharton.org/wp-content/uploads/2026/03/STORIES-STRETCHES-with-Flow-on-Main-all-ages.jpg
END:VEVENT
END:VCALENDAR