BEGIN:VCALENDAR
VERSION:2.0
PRODID:-//The Mount - ECPv6.15.20//NONSGML v1.0//EN
CALSCALE:GREGORIAN
METHOD:PUBLISH
X-WR-CALNAME:The Mount
X-ORIGINAL-URL:https://edithwharton.org
X-WR-CALDESC:Events for The Mount
REFRESH-INTERVAL;VALUE=DURATION:PT1H
X-Robots-Tag:noindex
X-PUBLISHED-TTL:PT1H
BEGIN:VTIMEZONE
TZID:UTC
BEGIN:STANDARD
TZOFFSETFROM:+0000
TZOFFSETTO:+0000
TZNAME:UTC
DTSTART:20250101T000000
END:STANDARD
END:VTIMEZONE
BEGIN:VEVENT
DTSTART;TZID=UTC:20260628T110000
DTEND;TZID=UTC:20260628T120000
DTSTAMP:20260425T133050
CREATED:20260326T181853Z
LAST-MODIFIED:20260417T151253Z
UID:10001254-1782644400-1782648000@edithwharton.org
SUMMARY:Tunes for Tots with Berkshire Music School
DESCRIPTION:This Sunday morning music and movement class introduces children to a wide array of music from all different genres and origins through an equally wide array of fun\, age-appropriate\, student-oriented activities. Led by Ms. Julia of Berkshire Music School\, Tunes for Tots incorporates instruction in both English and Spanish. \n\nIMPORTANT EVENT INFORMATION: \n\nThis program is designed for youth ages 2-4\, accompanied by their grown-ups. Thanks to our sponsors\, Tunes for Tots is free and open to the public; registration is not required.\nThis program takes place in The Mount’s Stable Auditorium\, an indoor\, climate-controlled venue adjacent to the parking lot.\nSeating for all Mount programs is first-come\, first-served. Accessible seating is available. To discuss arrangements\, please contact us by phone: 413-551-5111 x5; or email: programs@edithwharton.org. For more information about accessibility\, review The Mount’s accessibility webpage.\nQuestions? Email: programs@edithwharton.org\n\n  \n\n  \nJulia Shippee holds a Master of Music in Music Education from the University of Florida and a Bachelor of Arts in Music Education from the University of New Hampshire. She teaches elementary general music\, plays bass in college orchestras and local jazz ensembles\, and appears regularly as a guitarist and singer. At Berkshire Music School\, Julia teaches a vibrant\, all-ages studio of private lessons in guitar\, bass\, and ukulele\, and leads a range of pay-what-you-wish community group classes\, including Youth Ukes! and Youth Rock Band. \nFounded in 1940\, Berkshire Music School has been serving the greater Berkshire County community for over 80 years. We offer private lessons on any instrument\, Community Group Classes on a pay-what-you-wish basis\, and special programs for people of all ages\, backgrounds\, and experience levels. We believe that every student\, no matter their finances\, should be able to receive a quality music education. 
URL:https://edithwharton.org/event/tunes-for-tots-with-berkshire-music-school-5/2026-06-28/
LOCATION:The Mount\, 2 Plunkett Street\, Lenox\, MA\, United States
CATEGORIES:Youth & Family
ATTACH;FMTTYPE=image/jpeg:https://edithwharton.org/wp-content/uploads/2026/03/Tunes-for-Tots-with-Berkshire-Music-School-ages-2-4-1.jpg
END:VEVENT
END:VCALENDAR