BEGIN:VCALENDAR
VERSION:2.0
PRODID:-//The Mount - ECPv6.15.20//NONSGML v1.0//EN
CALSCALE:GREGORIAN
METHOD:PUBLISH
X-ORIGINAL-URL:https://edithwharton.org
X-WR-CALDESC:Events for The Mount
REFRESH-INTERVAL;VALUE=DURATION:PT1H
X-Robots-Tag:noindex
X-PUBLISHED-TTL:PT1H
BEGIN:VTIMEZONE
TZID:UTC
BEGIN:STANDARD
TZOFFSETFROM:+0000
TZOFFSETTO:+0000
TZNAME:UTC
DTSTART:20250101T000000
END:STANDARD
END:VTIMEZONE
BEGIN:VEVENT
DTSTART;TZID=UTC:20260810T160000
DTEND;TZID=UTC:20260810T170000
DTSTAMP:20260421T165628
CREATED:20260318T200039Z
LAST-MODIFIED:20260417T142459Z
UID:10001167-1786377600-1786381200@edithwharton.org
SUMMARY:Amanda Vaill\, Pride & Pleasure: The Schuyler Sisters in an Age of Revolution
DESCRIPTION:Since 1993\, the Summer Author Series has brought award-winning biographers to The Mount. This year’s Series explores lives and ideas that have challenged convention. From unsung heroes to innovators\, these talks invite us to reflect on how acts of courage—large and small—have challenged assumptions and expanded our collective imagination. \nA NEW YORK TIMES EDITOR’S CHOICE • FINALIST FOR THE NATIONAL BOOK CRITICS CIRCLE AWARD IN BIOGRAPHY • LONGLISTED FOR THE PLUTARCH AWARD FOR BEST BIOGRAPHY \nIn Pride and Pleasure\, Amanda Vaill reconsiders America’s Founding Era through the intertwined lives of Angelica and Elizabeth Schuyler\, two women as formidable as—and in some respects stronger than—the men they loved\, married\, and mothered. Drawing on rich archival research and never-before-published letters\, Vaill evokes a world of revolution and refinement\, ambition and sacrifice\, tracing Angelica’s glittering pursuit of influence across Europe and Eliza’s creative partnership with her husband\, Alexander Hamilton\, which endured scandal and tragedy and extended beyond his untimely death. And she explores the triangular relationship between the sisters and Hamilton — of whom Angelica wrote to Eliza: “I love your husband very much\, and if you were as generous as the old Romans you would lend him to me for a little while.” With the sweep of a nineteenth-century novel and the insight of modern history\, this dual biography reveals how these extraordinary sisters navigated power\, love\, and loss\, quietly giving shape to the nation taking form around them.  \n  \nIMPORTANT EVENT INFORMATION: \n\nThis one-hour talk takes place in The Mount’s Event Tent\, an open-air\, 400-seat tent adjacent to the parking lot. Please be mindful of the weather and plan accordingly.\nIn the event of extreme weather\, such as excessive heat or severe thunderstorms\, this program may be moved indoors to The Mount’s Stable Auditorium\, which has a limited capacity. All ticket holders will be notified by email at least two hours before the scheduled start time if a venue change is necessary. General admission tickets are valid for outdoor events only. If the program is moved indoors\, General Admission tickets will be automatically canceled\, and a full refund will be issued.\nIf you have concerns about the weather\, we recommend selecting the Rain or Shine Ticket option (a $5 add-on) at the time of purchase. Rain or Shine Tickets guarantee admission\, whether the program takes place outdoors or is moved indoors.\nSeating for all programs at The Mount is first-come\, first-served. If you have seating preferences\, we recommend arriving fifteen minutes early.\nAccessible seating is available. To discuss arrangements\, please contact us by phone: 413-551-5111 x5; or email: programs@edithwharton.org. For more information about accessibility\, review The Mount’s accessibility webpage.\nA book signing will follow this talk. Books can be purchased at the event from The Mount Gift & Bookstore or in advance via Bookshop.org\nQuestions? Email: programs@edithwharton.org; or phone: 413-551-5111 x2\n\n  \n\n  \nAmanda Vaill is the author of Pride and Pleasure\, Hotel Florida\, Somewhere\, and the bestselling Everybody Was So Young\, a finalist for the National Book Critics Circle Award. She is an Emmy-nominated screenwriter\, and her journalism and criticism have appeared in many publications\, including The New York Times Book Review\, The Washington Post\, Town & Country\, and New York. A past fellow of the Guggenheim Memorial Foundation\, NYU’s Center for Ballet and the Arts\, and the Cullman Center for Scholars and Writers at the New York Public Library\, she lives in New York City. 
URL:https://edithwharton.org/event/amanda-vaill/
LOCATION:The Mount\, 2 Plunkett Street\, Lenox\, MA\, United States
CATEGORIES:Author Talks & Conversations,Summer Author Series
ATTACH;FMTTYPE=image/jpeg:https://edithwharton.org/wp-content/uploads/2026/03/Amanda-Vaill.jpg
END:VEVENT
BEGIN:VEVENT
DTSTART;TZID=UTC:20260811T110000
DTEND;TZID=UTC:20260811T120000
DTSTAMP:20260421T165628
CREATED:20260319T185430Z
LAST-MODIFIED:20260417T142524Z
UID:10001175-1786446000-1786449600@edithwharton.org
SUMMARY:Amanda Vaill\, Pride & Pleasure: The Schuyler Sisters in an Age of Revolution
DESCRIPTION:Since 1993\, the Summer Author Series has brought award-winning biographers to The Mount. This year’s Series explores lives and ideas that have challenged convention. From unsung heroes to innovators\, these talks invite us to reflect on how acts of courage—large and small—have challenged assumptions and expanded our collective imagination. \nA NEW YORK TIMES EDITOR’S CHOICE • FINALIST FOR THE NATIONAL BOOK CRITICS CIRCLE AWARD IN BIOGRAPHY • LONGLISTED FOR THE PLUTARCH AWARD FOR BEST BIOGRAPHY \nIn Pride and Pleasure\, Amanda Vaill reconsiders America’s Founding Era through the intertwined lives of Angelica and Elizabeth Schuyler\, two women as formidable as—and in some respects stronger than—the men they loved\, married\, and mothered. Drawing on rich archival research and never-before-published letters\, Vaill evokes a world of revolution and refinement\, ambition and sacrifice\, tracing Angelica’s glittering pursuit of influence across Europe and Eliza’s creative partnership with her husband\, Alexander Hamilton\, which endured scandal and tragedy and extended beyond his untimely death. And she explores the triangular relationship between the sisters and Hamilton — of whom Angelica wrote to Eliza: “I love your husband very much\, and if you were as generous as the old Romans you would lend him to me for a little while.” With the sweep of a nineteenth-century novel and the insight of modern history\, this dual biography reveals how these extraordinary sisters navigated power\, love\, and loss\, quietly giving shape to the nation taking form around them.  \n  \nIMPORTANT EVENT INFORMATION: \n\nThis one-hour talk takes place in The Mount’s Event Tent\, an open-air\, 400-seat tent adjacent to the parking lot. Please be mindful of the weather and plan accordingly.\nIn the event of extreme weather\, such as excessive heat or severe thunderstorms\, this program may be moved indoors to The Mount’s Stable Auditorium\, which has a limited capacity. All ticket holders will be notified by email at least two hours before the scheduled start time if a venue change is necessary. General admission tickets are valid for outdoor events only. If the program is moved indoors\, General Admission tickets will be automatically canceled\, and a full refund will be issued.\nIf you have concerns about the weather\, we recommend selecting the Rain or Shine Ticket option (a $5 add-on) at the time of purchase. Rain or Shine Tickets guarantee admission\, whether the program takes place outdoors or is moved indoors.\nSeating for all programs at The Mount is first-come\, first-served. If you have seating preferences\, we recommend arriving fifteen minutes early.\nAccessible seating is available. To discuss arrangements\, please contact us by phone: 413-551-5111 x5; or email: programs@edithwharton.org. For more information about accessibility\, review The Mount’s accessibility webpage.\nA book signing will follow this talk. Books can be purchased at the event from The Mount Gift & Bookstore or in advance via Bookshop.org\nQuestions? Email: programs@edithwharton.org; or phone: 413-551-5111 x2\n\n  \n\n  \nAmanda Vaill is the author of Pride and Pleasure\, Hotel Florida\, Somewhere\, and the bestselling Everybody Was So Young\, a finalist for the National Book Critics Circle Award. She is an Emmy-nominated screenwriter\, and her journalism and criticism have appeared in many publications\, including The New York Times Book Review\, The Washington Post\, Town & Country\, and New York. A past fellow of the Guggenheim Memorial Foundation\, NYU’s Center for Ballet and the Arts\, and the Cullman Center for Scholars and Writers at the New York Public Library\, she lives in New York City. 
URL:https://edithwharton.org/event/amanda-vaill-pride-pleasure-the-schuyler-sisters-in-an-age-of-revolution/
LOCATION:The Mount\, 2 Plunkett Street\, Lenox\, MA\, United States
CATEGORIES:Author Talks & Conversations,Summer Author Series
ATTACH;FMTTYPE=image/jpeg:https://edithwharton.org/wp-content/uploads/2026/03/Amanda-Vaill.jpg
END:VEVENT
BEGIN:VEVENT
DTSTART;TZID=UTC:20260817T160000
DTEND;TZID=UTC:20260817T170000
DTSTAMP:20260421T165628
CREATED:20260318T203410Z
LAST-MODIFIED:20260417T143242Z
UID:10001168-1786982400-1786986000@edithwharton.org
SUMMARY:Nicholas Boggs\, Baldwin: A Love Story
DESCRIPTION:Since 1993\, the Summer Author Series has brought award-winning biographers to The Mount. This year’s Series explores lives and ideas that have challenged convention. From unsung heroes to innovators\, these talks invite us to reflect on how acts of courage—large and small—have challenged assumptions and expanded our collective imagination. \nA NEW YORK TIMES BESTSELLER • WINNER OF THE NATIONAL BOOK CRITICS CIRCLE JOHN LEONARD PRIZE • WINNER OF THE PEN/JACQUELINE BOGRAD WELD AWARD FOR BIOGRAPHY • A TIME AND ATLANTIC TOP 10 BOOK OF 2025 • A NEW YORK TIMES NOTABLE BOOK OF 2025 \nAn instant New York Times bestseller\, Baldwin: A Love Story is the first major biography of James Baldwin in three decades. The book draws on newly uncovered archival material\, original research\, and interviews to trace the intimate and artistic relationships—from mentors and collaborators to lovers and muses—that sustained Baldwin and shaped his writing. In this spellbinding portrait\, Nicholas Boggs follows Baldwin across continents—from Harlem and Paris to Switzerland\, the American South\, Istanbul\, Africa\, and southern France—revealing how he transformed lived experience into novels and essays that spoke truth to power\, reshaped Black and queer literary history\, and continue to resonate with force today.  \n  \nIMPORTANT EVENT INFORMATION:  \n\nThis one-hour talk takes place in The Mount’s Event Tent\, an open-air\, 400-seat tent adjacent to the parking lot. Please be mindful of the weather and plan accordingly.\nIn the event of extreme weather\, such as excessive heat or severe thunderstorms\, this program may be moved indoors to The Mount’s Stable Auditorium\, which has a limited capacity. All ticket holders will be notified by email at least two hours before the scheduled start time if a venue change is necessary. General admission tickets are valid for outdoor events only. If the program is moved indoors\, General Admission tickets will be automatically canceled\, and a full refund will be issued.\nIf you have concerns about the weather\, we recommend selecting the Rain or Shine Ticket option (a $5 add-on) at the time of purchase. Rain or Shine Tickets guarantee admission\, whether the program takes place outdoors or is moved indoors.\nSeating for all programs at The Mount is first-come\, first-served. If you have seating preferences\, we recommend arriving fifteen minutes early.\nAccessible seating is available. To discuss arrangements\, please contact us by phone: 413-551-5111 x5; or email: programs@edithwharton.org. For more information about accessibility\, review The Mount’s accessibility webpage.\nA book signing will follow this talk. Books can be purchased at the event from The Mount Gift & Bookstore or in advance via Bookshop.org\nQuestions? Email: programs@edithwharton.org; or phone: 413-551-5111 x2\n\n  \n\n  \nNicholas Boggs was an undergraduate when he discovered James Baldwin’s out-of-print children’s book\, Little Man\, Little Man: A Story of Childhood\, in the Beinecke Rare Book and Manuscript Library. After he tracked down its illustrator\, the French artist Yoran Cazac\, he went on to coedit an acclaimed new edition of the book in 2018. His writing has also been anthologized in The Cambridge Companion to James Baldwin\, James Baldwin Now\, and Speculative Light: The Arts of Beauford Delaney and James Baldwin. He is the recipient of a 2023 Whiting Creative Nonfiction Grant and fellowships from the National Endowment for the Humanities\, the Beinecke Library and Gilder Lehrman Center at Yale\, the Schomburg Center Scholars-in-Residence Program\, and the National Humanities Center\, as well as residencies at Yaddo and MacDowell. He received his BA in English from Yale\, his MFA in creative writing from American University\, and his PhD in English from Columbia. Born and raised in Washington\, DC\, he lives in Brooklyn\, New York.
URL:https://edithwharton.org/event/nicholas-boggs/
LOCATION:The Mount\, 2 Plunkett Street\, Lenox\, MA\, United States
CATEGORIES:Author Talks & Conversations,Summer Author Series
ATTACH;FMTTYPE=image/jpeg:https://edithwharton.org/wp-content/uploads/2026/03/Nicholas-Boggs.jpg
END:VEVENT
BEGIN:VEVENT
DTSTART;TZID=UTC:20260818T110000
DTEND;TZID=UTC:20260818T120000
DTSTAMP:20260421T165628
CREATED:20260319T185514Z
LAST-MODIFIED:20260417T143318Z
UID:10001176-1787050800-1787054400@edithwharton.org
SUMMARY:Nicholas Boggs\, Baldwin: A Love Story
DESCRIPTION:Since 1993\, the Summer Author Series has brought award-winning biographers to The Mount. This year’s Series explores lives and ideas that have challenged convention. From unsung heroes to innovators\, these talks invite us to reflect on how acts of courage—large and small—have challenged assumptions and expanded our collective imagination. \nA NEW YORK TIMES BESTSELLER • WINNER OF THE NATIONAL BOOK CRITICS CIRCLE JOHN LEONARD PRIZE • WINNER OF THE PEN/JACQUELINE BOGRAD WELD AWARD FOR BIOGRAPHY • A TIME AND ATLANTIC TOP 10 BOOK OF 2025 • A NEW YORK TIMES NOTABLE BOOK OF 2025 \nAn instant New York Times bestseller\, Baldwin: A Love Story is the first major biography of James Baldwin in three decades. The book draws on newly uncovered archival material\, original research\, and interviews to trace the intimate and artistic relationships—from mentors and collaborators to lovers and muses—that sustained Baldwin and shaped his writing. In this spellbinding portrait\, Nicholas Boggs follows Baldwin across continents—from Harlem and Paris to Switzerland\, the American South\, Istanbul\, Africa\, and southern France—revealing how he transformed lived experience into novels and essays that spoke truth to power\, reshaped Black and queer literary history\, and continue to resonate with force today.  \n  \nIMPORTANT EVENT INFORMATION:  \n\nThis one-hour talk takes place in The Mount’s Event Tent\, an open-air\, 400-seat tent adjacent to the parking lot. Please be mindful of the weather and plan accordingly.\nIn the event of extreme weather\, such as excessive heat or severe thunderstorms\, this program may be moved indoors to The Mount’s Stable Auditorium\, which has a limited capacity. All ticket holders will be notified by email at least two hours before the scheduled start time if a venue change is necessary. General admission tickets are valid for outdoor events only. If the program is moved indoors\, General Admission tickets will be automatically canceled\, and a full refund will be issued.\nIf you have concerns about the weather\, we recommend selecting the Rain or Shine Ticket option (a $5 add-on) at the time of purchase. Rain or Shine Tickets guarantee admission\, whether the program takes place outdoors or is moved indoors.\nSeating for all programs at The Mount is first-come\, first-served. If you have seating preferences\, we recommend arriving fifteen minutes early.\nAccessible seating is available. To discuss arrangements\, please contact us by phone: 413-551-5111 x5; or email: programs@edithwharton.org. For more information about accessibility\, review The Mount’s accessibility webpage.\nA book signing will follow this talk. Books can be purchased at the event from The Mount Gift & Bookstore or in advance via Bookshop.org\nQuestions? Email: programs@edithwharton.org; or phone: 413-551-5111 x2\n\n  \n\n  \nNicholas Boggs was an undergraduate when he discovered James Baldwin’s out-of-print children’s book\, Little Man\, Little Man: A Story of Childhood\, in the Beinecke Rare Book and Manuscript Library. After he tracked down its illustrator\, the French artist Yoran Cazac\, he went on to coedit an acclaimed new edition of the book in 2018. His writing has also been anthologized in The Cambridge Companion to James Baldwin\, James Baldwin Now\, and Speculative Light: The Arts of Beauford Delaney and James Baldwin. He is the recipient of a 2023 Whiting Creative Nonfiction Grant and fellowships from the National Endowment for the Humanities\, the Beinecke Library and Gilder Lehrman Center at Yale\, the Schomburg Center Scholars-in-Residence Program\, and the National Humanities Center\, as well as residencies at Yaddo and MacDowell. He received his BA in English from Yale\, his MFA in creative writing from American University\, and his PhD in English from Columbia. Born and raised in Washington\, DC\, he lives in Brooklyn\, New York.
URL:https://edithwharton.org/event/nicholas-boggs-baldwin-a-love-story/
LOCATION:The Mount\, 2 Plunkett Street\, Lenox\, MA\, United States
CATEGORIES:Author Talks & Conversations,Summer Author Series
ATTACH;FMTTYPE=image/jpeg:https://edithwharton.org/wp-content/uploads/2026/03/Nicholas-Boggs.jpg
END:VEVENT
BEGIN:VEVENT
DTSTART;TZID=UTC:20260824T160000
DTEND;TZID=UTC:20260824T170000
DTSTAMP:20260421T165628
CREATED:20260318T204631Z
LAST-MODIFIED:20260417T141227Z
UID:10001169-1787587200-1787590800@edithwharton.org
SUMMARY:Peter S. Canellos\, Revenge for the Sixties: Sam Alito and the Triumph of the Conservative Legal Movement
DESCRIPTION:Since 1993\, the Summer Author Series has brought award-winning biographers to The Mount. This year’s Series explores lives and ideas that have challenged convention. From unsung heroes to innovators\, these talks invite us to reflect on how acts of courage—large and small—have challenged assumptions and expanded our collective imagination. \nRevenge for the Sixties is a timely and illuminating biography that traces Samuel Anthony Alito Jr.’s path from a working-class\, Catholic immigrant family to the center of a decades-long conservative legal movement. Award-winning journalist Peter S. Canellos examines the personal convictions\, political grievances\, and institutional forces that shaped Alito’s judicial career and culminated in his authorship of Dobbs v. Jackson\, the decision that overturned Roe v. Wade. With clarity and depth\, Canellos shows how Alito’s worldview has driven transformative rulings on religion\, gun rights\, affirmative action\, and the limits of government power—and why understanding Alito’s story is essential to understanding the future of American law and democracy.  \n\nIMPORTANT EVENT INFORMATION: \n\n\nThis one-hour talk takes place in The Mount’s Event Tent\, an open-air\, 400-seat tent adjacent to the parking lot. Please be mindful of the weather and plan accordingly.\nIn the event of extreme weather\, such as excessive heat or severe thunderstorms\, this program may be moved indoors to The Mount’s Stable Auditorium\, which has a limited capacity. All ticket holders will be notified by email at least two hours before the scheduled start time if a venue change is necessary. General admission tickets are valid for outdoor events only. If the program is moved indoors\, General Admission tickets will be automatically canceled\, and a full refund will be issued.\nIf you have concerns about the weather\, we recommend selecting the Rain or Shine Ticket option (a $5 add-on) at the time of purchase. Rain or Shine Tickets guarantee admission\, whether the program takes place outdoors or is moved indoors.\nSeating for all programs at The Mount is first-come\, first-served. If you have seating preferences\, we recommend arriving fifteen minutes early.\nAccessible seating is available. To discuss arrangements\, please contact us by phone: 413-551-5111 x5; or email: programs@edithwharton.org. For more information about accessibility\, review The Mount’s accessibility webpage.\nA book signing will follow this talk. Books can be purchased at the event from The Mount Gift & Bookstore or in advance via Bookshop.org\nQuestions? Email: programs@edithwharton.org; or phone: 413-551-5111 x2\n\n  \n\n\n  \nPeter S. Canellos is the author of The Great Dissenter: The Story of John Marshall Harlan\, America’s Judicial Hero\, and the editor of the bestselling Last Lion: The Fall and Rise of Ted Kennedy. In a 30-year journalism career\, he has been POLITICO’s executive editor\, leading the newsroom during the 2016 presidential coverage; and the editorial page editor of The Boston Globe. He has also been a Pulitzer Prize finalist\, a recipient of the American Society of Newspaper Editors award in 2011 for excellence in editorial writing along with the 2022 George Polk Award\, Robin Toner Award\, and News Leaders Association Batten Medal for his writing about the Supreme Court. 
URL:https://edithwharton.org/event/peter-canellos/
LOCATION:The Mount\, 2 Plunkett Street\, Lenox\, MA\, United States
CATEGORIES:Author Talks & Conversations,Summer Author Series
ATTACH;FMTTYPE=image/jpeg:https://edithwharton.org/wp-content/uploads/2026/03/Peter-S.-Canellos.jpg
END:VEVENT
BEGIN:VEVENT
DTSTART;TZID=UTC:20260825T110000
DTEND;TZID=UTC:20260825T120000
DTSTAMP:20260421T165628
CREATED:20260319T185556Z
LAST-MODIFIED:20260417T141140Z
UID:10001177-1787655600-1787659200@edithwharton.org
SUMMARY:Peter S. Canellos\, Revenge for the Sixties: Sam Alito and the Triumph of the Conservative Legal Movement
DESCRIPTION:Since 1993\, the Summer Author Series has brought award-winning biographers to The Mount. This year’s Series explores lives and ideas that have challenged convention. From unsung heroes to innovators\, these talks invite us to reflect on how acts of courage—large and small—have challenged assumptions and expanded our collective imagination. \nRevenge for the Sixties is a timely and illuminating biography that traces Samuel Anthony Alito Jr.’s path from a working-class\, Catholic immigrant family to the center of a decades-long conservative legal movement. Award-winning journalist Peter S. Canellos examines the personal convictions\, political grievances\, and institutional forces that shaped Alito’s judicial career and culminated in his authorship of Dobbs v. Jackson\, the decision that overturned Roe v. Wade. With clarity and depth\, Canellos shows how Alito’s worldview has driven transformative rulings on religion\, gun rights\, affirmative action\, and the limits of government power—and why understanding Alito’s story is essential to understanding the future of American law and democracy.  \n\nIMPORTANT EVENT INFORMATION: \n\n\nThis one-hour talk takes place in The Mount’s Event Tent\, an open-air\, 400-seat tent adjacent to the parking lot. Please be mindful of the weather and plan accordingly.\nIn the event of extreme weather\, such as excessive heat or severe thunderstorms\, this program may be moved indoors to The Mount’s Stable Auditorium\, which has a limited capacity. All ticket holders will be notified by email at least two hours before the scheduled start time if a venue change is necessary. General admission tickets are valid for outdoor events only. If the program is moved indoors\, General Admission tickets will be automatically canceled\, and a full refund will be issued.\nIf you have concerns about the weather\, we recommend selecting the Rain or Shine Ticket option (a $5 add-on) at the time of purchase. Rain or Shine Tickets guarantee admission\, whether the program takes place outdoors or is moved indoors.\nSeating for all programs at The Mount is first-come\, first-served. If you have seating preferences\, we recommend arriving fifteen minutes early.\nAccessible seating is available. To discuss arrangements\, please contact us by phone: 413-551-5111 x5; or email: programs@edithwharton.org. For more information about accessibility\, review The Mount’s accessibility webpage.\nA book signing will follow this talk. Books can be purchased at the event from The Mount Gift & Bookstore or in advance via Bookshop.org\nQuestions? Email: programs@edithwharton.org; or phone: 413-551-5111 x2\n\n  \n\n\n  \nPeter S. Canellos is the author of The Great Dissenter: The Story of John Marshall Harlan\, America’s Judicial Hero\, and the editor of the bestselling Last Lion: The Fall and Rise of Ted Kennedy. In a 30-year journalism career\, he has been POLITICO’s executive editor\, leading the newsroom during the 2016 presidential coverage; and the editorial page editor of The Boston Globe. He has also been a Pulitzer Prize finalist\, a recipient of the American Society of Newspaper Editors award in 2011 for excellence in editorial writing along with the 2022 George Polk Award\, Robin Toner Award\, and News Leaders Association Batten Medal for his writing about the Supreme Court. 
URL:https://edithwharton.org/event/peter-s-canellos-revenge-for-the-sixties-sam-alito-and-the-triumph-of-the-conservative-legal-movement/
LOCATION:The Mount\, 2 Plunkett Street\, Lenox\, MA\, United States
CATEGORIES:Author Talks & Conversations,Summer Author Series
ATTACH;FMTTYPE=image/jpeg:https://edithwharton.org/wp-content/uploads/2026/03/Peter-S.-Canellos.jpg
END:VEVENT
END:VCALENDAR