BEGIN:VCALENDAR
VERSION:2.0
PRODID:-//The Mount - ECPv6.15.20//NONSGML v1.0//EN
CALSCALE:GREGORIAN
METHOD:PUBLISH
X-WR-CALNAME:The Mount
X-ORIGINAL-URL:https://edithwharton.org
X-WR-CALDESC:Events for The Mount
REFRESH-INTERVAL;VALUE=DURATION:PT1H
X-Robots-Tag:noindex
X-PUBLISHED-TTL:PT1H
BEGIN:VTIMEZONE
TZID:UTC
BEGIN:STANDARD
TZOFFSETFROM:+0000
TZOFFSETTO:+0000
TZNAME:UTC
DTSTART:20250101T000000
END:STANDARD
END:VTIMEZONE
BEGIN:VEVENT
DTSTART;TZID=UTC:20260506T080000
DTEND;TZID=UTC:20260506T093000
DTSTAMP:20260423T154538
CREATED:20260330T190809Z
LAST-MODIFIED:20260330T190810Z
UID:10001276-1778054400-1778059800@edithwharton.org
SUMMARY:Birding with Mass Audubon | Spring Migration
DESCRIPTION:Explore Edith Wharton’s original estate\, from its woodlands and wetlands to its open meadows\, on a relaxed\, beginner-friendly birding walk. Learn how to spot and identify both migrating and resident birds\, with a focus on the fundamentals of bird-finding\, identification\, and behavioral observation. \nRather than keeping a running list\, we’ll slow down and enjoy the birds we encounter along the way. Bring your own binoculars\, or borrow a pair from us! \nThanks to The Mount’s sponsors\, this program remains free and open to the public!\nCapacity is limited—registration is required. \n  \nIMPORTANT EVENT INFORMATION: \n\nThis program is designed for adult audiences. To maintain group sizes that are conducive to birdwatching\, pre-registration is required.\nThis program meets at The Mount’s Ticket Booth. Your guide will arrive 15-minutes before the program’s start time to greet early arrivals.\nThe trail distance covered during the bird walk varies significantly week-to-week. Typically\, the walk covers up to 1.2 miles of unsurfaced trail\, largely flat with a few gentle inclines. The trail can be uneven at points\, contain tripping hazards such as exposed tree roots or rocks\, and be wet or muddy. Please be mindful of the weather and plan accordingly.\nQuestions? Email: berkshires@massaudubon.org; or phone: 413-637-0320
URL:https://edithwharton.org/event/birding-with-mass-audubon-spring-migration-2/
LOCATION:The Mount\, 2 Plunkett Street\, Lenox\, MA\, United States
CATEGORIES:Nature
ATTACH;FMTTYPE=image/jpeg:https://edithwharton.org/wp-content/uploads/2026/03/Birding-at-The-Mount-Spring-Migration-1.jpg
END:VEVENT
BEGIN:VEVENT
DTSTART;TZID=UTC:20260513T080000
DTEND;TZID=UTC:20260513T093000
DTSTAMP:20260423T154538
CREATED:20260330T190911Z
LAST-MODIFIED:20260330T190912Z
UID:10001277-1778659200-1778664600@edithwharton.org
SUMMARY:Birding with Mass Audubon | Spring Migration
DESCRIPTION:Explore Edith Wharton’s original estate\, from its woodlands and wetlands to its open meadows\, on a relaxed\, beginner-friendly birding walk. Learn how to spot and identify both migrating and resident birds\, with a focus on the fundamentals of bird-finding\, identification\, and behavioral observation. \nRather than keeping a running list\, we’ll slow down and enjoy the birds we encounter along the way. Bring your own binoculars\, or borrow a pair from us! \nThanks to The Mount’s sponsors\, this program remains free and open to the public!\nCapacity is limited—registration is required. \n  \nIMPORTANT EVENT INFORMATION: \n\nThis program is designed for adult audiences. To maintain group sizes that are conducive to birdwatching\, pre-registration is required.\nThis program meets at The Mount’s Ticket Booth. Your guide will arrive 15-minutes before the program’s start time to greet early arrivals.\nThe trail distance covered during the bird walk varies significantly week-to-week. Typically\, the walk covers up to 1.2 miles of unsurfaced trail\, largely flat with a few gentle inclines. The trail can be uneven at points\, contain tripping hazards such as exposed tree roots or rocks\, and be wet or muddy. Please be mindful of the weather and plan accordingly.\nQuestions? Email: berkshires@massaudubon.org; or phone: 413-637-0320
URL:https://edithwharton.org/event/birding-with-mass-audubon-spring-migration-3/
LOCATION:The Mount\, 2 Plunkett Street\, Lenox\, MA\, United States
CATEGORIES:Nature
ATTACH;FMTTYPE=image/jpeg:https://edithwharton.org/wp-content/uploads/2026/03/Birding-at-The-Mount-Spring-Migration-1.jpg
END:VEVENT
BEGIN:VEVENT
DTSTART;TZID=UTC:20260520T080000
DTEND;TZID=UTC:20260520T093000
DTSTAMP:20260423T154538
CREATED:20260330T190945Z
LAST-MODIFIED:20260330T190946Z
UID:10001278-1779264000-1779269400@edithwharton.org
SUMMARY:Birding with Mass Audubon | Spring Migration
DESCRIPTION:Explore Edith Wharton’s original estate\, from its woodlands and wetlands to its open meadows\, on a relaxed\, beginner-friendly birding walk. Learn how to spot and identify both migrating and resident birds\, with a focus on the fundamentals of bird-finding\, identification\, and behavioral observation. \nRather than keeping a running list\, we’ll slow down and enjoy the birds we encounter along the way. Bring your own binoculars\, or borrow a pair from us! \nThanks to The Mount’s sponsors\, this program remains free and open to the public!\nCapacity is limited—registration is required. \n  \nIMPORTANT EVENT INFORMATION: \n\nThis program is designed for adult audiences. To maintain group sizes that are conducive to birdwatching\, pre-registration is required.\nThis program meets at The Mount’s Ticket Booth. Your guide will arrive 15-minutes before the program’s start time to greet early arrivals.\nThe trail distance covered during the bird walk varies significantly week-to-week. Typically\, the walk covers up to 1.2 miles of unsurfaced trail\, largely flat with a few gentle inclines. The trail can be uneven at points\, contain tripping hazards such as exposed tree roots or rocks\, and be wet or muddy. Please be mindful of the weather and plan accordingly.\nQuestions? Email: berkshires@massaudubon.org; or phone: 413-637-0320
URL:https://edithwharton.org/event/birding-with-mass-audubon-spring-migration-4/
LOCATION:The Mount\, 2 Plunkett Street\, Lenox\, MA\, United States
CATEGORIES:Nature
ATTACH;FMTTYPE=image/jpeg:https://edithwharton.org/wp-content/uploads/2026/03/Birding-at-The-Mount-Spring-Migration-1.jpg
END:VEVENT
BEGIN:VEVENT
DTSTART;TZID=UTC:20260603T080000
DTEND;TZID=UTC:20260603T093000
DTSTAMP:20260423T154538
CREATED:20260330T191051Z
LAST-MODIFIED:20260330T191052Z
UID:10001280-1780473600-1780479000@edithwharton.org
SUMMARY:Birding with Mass Audubon | Spring Migration
DESCRIPTION:Explore Edith Wharton’s original estate\, from its woodlands and wetlands to its open meadows\, on a relaxed\, beginner-friendly birding walk. Learn how to spot and identify both migrating and resident birds\, with a focus on the fundamentals of bird-finding\, identification\, and behavioral observation. \nRather than keeping a running list\, we’ll slow down and enjoy the birds we encounter along the way. Bring your own binoculars\, or borrow a pair from us! \nThanks to The Mount’s sponsors\, this program remains free and open to the public!\nCapacity is limited—registration is required. \n  \nIMPORTANT EVENT INFORMATION: \n\nThis program is designed for adult audiences. To maintain group sizes that are conducive to birdwatching\, pre-registration is required.\nThis program meets at The Mount’s Ticket Booth. Your guide will arrive 15-minutes before the program’s start time to greet early arrivals.\nThe trail distance covered during the bird walk varies significantly week-to-week. Typically\, the walk covers up to 1.2 miles of unsurfaced trail\, largely flat with a few gentle inclines. The trail can be uneven at points\, contain tripping hazards such as exposed tree roots or rocks\, and be wet or muddy. Please be mindful of the weather and plan accordingly.\nQuestions? Email: berkshires@massaudubon.org; or phone: 413-637-0320
URL:https://edithwharton.org/event/birding-with-mass-audubon-spring-migration-6/
LOCATION:The Mount\, 2 Plunkett Street\, Lenox\, MA\, United States
CATEGORIES:Nature
ATTACH;FMTTYPE=image/jpeg:https://edithwharton.org/wp-content/uploads/2026/03/Birding-at-The-Mount-Spring-Migration-1.jpg
END:VEVENT
BEGIN:VEVENT
DTSTART;TZID=UTC:20260610T080000
DTEND;TZID=UTC:20260610T093000
DTSTAMP:20260423T154538
CREATED:20260330T191127Z
LAST-MODIFIED:20260330T191128Z
UID:10001281-1781078400-1781083800@edithwharton.org
SUMMARY:Birding with Mass Audubon | Spring Migration
DESCRIPTION:Explore Edith Wharton’s original estate\, from its woodlands and wetlands to its open meadows\, on a relaxed\, beginner-friendly birding walk. Learn how to spot and identify both migrating and resident birds\, with a focus on the fundamentals of bird-finding\, identification\, and behavioral observation. \nRather than keeping a running list\, we’ll slow down and enjoy the birds we encounter along the way. Bring your own binoculars\, or borrow a pair from us! \nThanks to The Mount’s sponsors\, this program remains free and open to the public!\nCapacity is limited—registration is required. \n  \nIMPORTANT EVENT INFORMATION: \n\nThis program is designed for adult audiences. To maintain group sizes that are conducive to birdwatching\, pre-registration is required.\nThis program meets at The Mount’s Ticket Booth. Your guide will arrive 15-minutes before the program’s start time to greet early arrivals.\nThe trail distance covered during the bird walk varies significantly week-to-week. Typically\, the walk covers up to 1.2 miles of unsurfaced trail\, largely flat with a few gentle inclines. The trail can be uneven at points\, contain tripping hazards such as exposed tree roots or rocks\, and be wet or muddy. Please be mindful of the weather and plan accordingly.\nQuestions? Email: berkshires@massaudubon.org; or phone: 413-637-0320
URL:https://edithwharton.org/event/birding-with-mass-audubon-spring-migration-7/
LOCATION:The Mount\, 2 Plunkett Street\, Lenox\, MA\, United States
CATEGORIES:Nature
ATTACH;FMTTYPE=image/jpeg:https://edithwharton.org/wp-content/uploads/2026/03/Birding-at-The-Mount-Spring-Migration-1.jpg
END:VEVENT
END:VCALENDAR